BEGIN:VCALENDAR
VERSION:2.0
PRODID:-//Kamikaz Kolektiboa - ECPv6.15.20//NONSGML v1.0//EN
CALSCALE:GREGORIAN
METHOD:PUBLISH
X-ORIGINAL-URL:https://kamikazkolektiboa.com
X-WR-CALDESC:Events for Kamikaz Kolektiboa
REFRESH-INTERVAL;VALUE=DURATION:PT1H
X-Robots-Tag:noindex
X-PUBLISHED-TTL:PT1H
BEGIN:VTIMEZONE
TZID:Europe/Madrid
BEGIN:DAYLIGHT
TZOFFSETFROM:+0100
TZOFFSETTO:+0200
TZNAME:CEST
DTSTART:20230326T010000
END:DAYLIGHT
BEGIN:STANDARD
TZOFFSETFROM:+0200
TZOFFSETTO:+0100
TZNAME:CET
DTSTART:20231029T010000
END:STANDARD
BEGIN:DAYLIGHT
TZOFFSETFROM:+0100
TZOFFSETTO:+0200
TZNAME:CEST
DTSTART:20240331T010000
END:DAYLIGHT
BEGIN:STANDARD
TZOFFSETFROM:+0200
TZOFFSETTO:+0100
TZNAME:CET
DTSTART:20241027T010000
END:STANDARD
BEGIN:DAYLIGHT
TZOFFSETFROM:+0100
TZOFFSETTO:+0200
TZNAME:CEST
DTSTART:20250330T010000
END:DAYLIGHT
BEGIN:STANDARD
TZOFFSETFROM:+0200
TZOFFSETTO:+0100
TZNAME:CET
DTSTART:20251026T010000
END:STANDARD
END:VTIMEZONE
BEGIN:VEVENT
DTSTART;TZID=Europe/Madrid:20241006T120000
DTEND;TZID=Europe/Madrid:20241006T133000
DTSTAMP:20260420T081438
CREATED:20240612T152611Z
LAST-MODIFIED:20240612T152611Z
UID:1230-1728216000-1728221400@kamikazkolektiboa.com
SUMMARY:Troia / Azpeitia (Kilometroak)
DESCRIPTION:Herrian objetu misteriotsu bat agertu da. Arriskutsua izan daitekeelakoan hiru superheroi hauek deitu dituzte herria salbatzeko. Beraien botere guztiak erabiliko dituzte misioa aurrera eramateko eta herritarren laguntza ezinbestekoa da. Herrian sortu den tentsioa handia da eta edozein momentutan eztanda egin dezake.
URL:https://kamikazkolektiboa.com/event/troia-azpeitia-kilometroak/
LOCATION:Azpeitia\, Azpeitia\, Gipuzkoa
END:VEVENT
END:VCALENDAR