BEGIN:VCALENDAR
VERSION:2.0
PRODID:-//Kamikaz Kolektiboa - ECPv6.15.20//NONSGML v1.0//EN
CALSCALE:GREGORIAN
METHOD:PUBLISH
X-WR-CALNAME:Kamikaz Kolektiboa
X-ORIGINAL-URL:https://kamikazkolektiboa.com
X-WR-CALDESC:Events for Kamikaz Kolektiboa
REFRESH-INTERVAL;VALUE=DURATION:PT1H
X-Robots-Tag:noindex
X-PUBLISHED-TTL:PT1H
BEGIN:VTIMEZONE
TZID:Europe/Madrid
BEGIN:DAYLIGHT
TZOFFSETFROM:+0100
TZOFFSETTO:+0200
TZNAME:CEST
DTSTART:20240331T010000
END:DAYLIGHT
BEGIN:STANDARD
TZOFFSETFROM:+0200
TZOFFSETTO:+0100
TZNAME:CET
DTSTART:20241027T010000
END:STANDARD
BEGIN:DAYLIGHT
TZOFFSETFROM:+0100
TZOFFSETTO:+0200
TZNAME:CEST
DTSTART:20250330T010000
END:DAYLIGHT
BEGIN:STANDARD
TZOFFSETFROM:+0200
TZOFFSETTO:+0100
TZNAME:CET
DTSTART:20251026T010000
END:STANDARD
BEGIN:DAYLIGHT
TZOFFSETFROM:+0100
TZOFFSETTO:+0200
TZNAME:CEST
DTSTART:20260329T010000
END:DAYLIGHT
BEGIN:STANDARD
TZOFFSETFROM:+0200
TZOFFSETTO:+0100
TZNAME:CET
DTSTART:20261025T010000
END:STANDARD
END:VTIMEZONE
BEGIN:VEVENT
DTSTART;TZID=Europe/Madrid:20250302T200000
DTEND;TZID=Europe/Madrid:20250302T213000
DTSTAMP:20260420T001242
CREATED:20250117T130024Z
LAST-MODIFIED:20250117T130024Z
UID:1261-1740945600-1740951000@kamikazkolektiboa.com
SUMMARY:Renata / Arrasate
DESCRIPTION:Azken orduko albistea: Renata berpiztu egin da! Renata 133garren aldiz hil da; marrazoz betetako piszinara salto egin eta bururik gabe geratu denean. Lasai\, berehala berpiztuko baita.  \nRenata etengabe hil eta pizten da\, esku artean hil ala biziko misio bat daukalako. Pantailen artean desitxuratzen ari den sistema aldrebes baten erdian\, lortuko ote du nola bizi ahaztu duen jendartea esnatzea?
URL:https://kamikazkolektiboa.com/event/renata-arrasate/
LOCATION:Arrasate\, España
END:VEVENT
BEGIN:VEVENT
DTSTART;TZID=Europe/Madrid:20250311T193000
DTEND;TZID=Europe/Madrid:20250311T210000
DTSTAMP:20260420T001242
CREATED:20250117T125851Z
LAST-MODIFIED:20250117T125851Z
UID:1256-1741721400-1741726800@kamikazkolektiboa.com
SUMMARY:Renata / Bilbo
DESCRIPTION:Azken orduko albistea: Renata berpiztu egin da! Renata 133garren aldiz hil da; marrazoz betetako piszinara salto egin eta bururik gabe geratu denean. Lasai\, berehala berpiztuko baita.  \nRenata etengabe hil eta pizten da\, esku artean hil ala biziko misio bat daukalako. Pantailen artean desitxuratzen ari den sistema aldrebes baten erdian\, lortuko ote du nola bizi ahaztu duen jendartea esnatzea?
URL:https://kamikazkolektiboa.com/event/renata-bilbo/
LOCATION:Bilbo
END:VEVENT
BEGIN:VEVENT
DTSTART;VALUE=DATE:20250316
DTEND;VALUE=DATE:20250317
DTSTAMP:20260420T001242
CREATED:20250117T130306Z
LAST-MODIFIED:20250117T130306Z
UID:1265-1742083200-1742169599@kamikazkolektiboa.com
SUMMARY:Renata / Aretxabaleta
DESCRIPTION:Azken orduko albistea: Renata berpiztu egin da! Renata 133garren aldiz hil da; marrazoz betetako piszinara salto egin eta bururik gabe geratu denean. Lasai\, berehala berpiztuko baita.  \nRenata etengabe hil eta pizten da\, esku artean hil ala biziko misio bat daukalako. Pantailen artean desitxuratzen ari den sistema aldrebes baten erdian\, lortuko ote du nola bizi ahaztu duen jendartea esnatzea?
URL:https://kamikazkolektiboa.com/event/renata-aretxabaleta/
LOCATION:Aretxabaleta
END:VEVENT
BEGIN:VEVENT
DTSTART;VALUE=DATE:20250322
DTEND;VALUE=DATE:20250323
DTSTAMP:20260420T001242
CREATED:20250117T130449Z
LAST-MODIFIED:20250117T130449Z
UID:1269-1742601600-1742687999@kamikazkolektiboa.com
SUMMARY:Renata / Lasarte-Oria
DESCRIPTION:Azken orduko albistea: Renata berpiztu egin da! Renata 133garren aldiz hil da; marrazoz betetako piszinara salto egin eta bururik gabe geratu denean. Lasai\, berehala berpiztuko baita.  \nRenata etengabe hil eta pizten da\, esku artean hil ala biziko misio bat daukalako. Pantailen artean desitxuratzen ari den sistema aldrebes baten erdian\, lortuko ote du nola bizi ahaztu duen jendartea esnatzea?
URL:https://kamikazkolektiboa.com/event/renata-lasarte-oria/
LOCATION:Lasarte-Oria
END:VEVENT
BEGIN:VEVENT
DTSTART;TZID=Europe/Madrid:20250323T190000
DTEND;TZID=Europe/Madrid:20250323T203000
DTSTAMP:20260420T001242
CREATED:20250117T130545Z
LAST-MODIFIED:20250117T130545Z
UID:1272-1742756400-1742761800@kamikazkolektiboa.com
SUMMARY:Renata / Oñati
DESCRIPTION:Azken orduko albistea: Renata berpiztu egin da! Renata 133garren aldiz hil da; marrazoz betetako piszinara salto egin eta bururik gabe geratu denean. Lasai\, berehala berpiztuko baita.  \nRenata etengabe hil eta pizten da\, esku artean hil ala biziko misio bat daukalako. Pantailen artean desitxuratzen ari den sistema aldrebes baten erdian\, lortuko ote du nola bizi ahaztu duen jendartea esnatzea?
URL:https://kamikazkolektiboa.com/event/renata-onati/
LOCATION:Oñati
END:VEVENT
END:VCALENDAR