BEGIN:VCALENDAR
VERSION:2.0
PRODID:-//Kamikaz Kolektiboa - ECPv6.15.20//NONSGML v1.0//EN
CALSCALE:GREGORIAN
METHOD:PUBLISH
X-WR-CALNAME:Kamikaz Kolektiboa
X-ORIGINAL-URL:https://kamikazkolektiboa.com
X-WR-CALDESC:Events for Kamikaz Kolektiboa
REFRESH-INTERVAL;VALUE=DURATION:PT1H
X-Robots-Tag:noindex
X-PUBLISHED-TTL:PT1H
BEGIN:VTIMEZONE
TZID:Europe/Madrid
BEGIN:DAYLIGHT
TZOFFSETFROM:+0100
TZOFFSETTO:+0200
TZNAME:CEST
DTSTART:20180325T010000
END:DAYLIGHT
BEGIN:STANDARD
TZOFFSETFROM:+0200
TZOFFSETTO:+0100
TZNAME:CET
DTSTART:20181028T010000
END:STANDARD
BEGIN:DAYLIGHT
TZOFFSETFROM:+0100
TZOFFSETTO:+0200
TZNAME:CEST
DTSTART:20190331T010000
END:DAYLIGHT
BEGIN:STANDARD
TZOFFSETFROM:+0200
TZOFFSETTO:+0100
TZNAME:CET
DTSTART:20191027T010000
END:STANDARD
BEGIN:DAYLIGHT
TZOFFSETFROM:+0100
TZOFFSETTO:+0200
TZNAME:CEST
DTSTART:20200329T010000
END:DAYLIGHT
BEGIN:STANDARD
TZOFFSETFROM:+0200
TZOFFSETTO:+0100
TZNAME:CET
DTSTART:20201025T010000
END:STANDARD
END:VTIMEZONE
BEGIN:VEVENT
DTSTART;TZID=Europe/Madrid:20190413T210000
DTEND;TZID=Europe/Madrid:20190413T210000
DTSTAMP:20260421T054143
CREATED:20181221T093653Z
LAST-MODIFIED:20190130T123605Z
UID:511-1555189200-1555189200@kamikazkolektiboa.com
SUMMARY:Agur eta Dolore
DESCRIPTION:Ikuskizun baten ondorenean jarri zen Agur eta doloreren hazia. Miren Gaztañaga eta Iraia Eliasek bertan egin genuen topo ikusle bezala eta ikuskizun horretan ikusitako hainbat ezaugarrirekin zerbait egiteko gogoa sartu zitzaigun\, umoretik\, jolasetik. Aitzakia bat behar ordea elkarrekin zerbait sortzeko\, eta orduan agertu zen Pabelloi 6ko antzerki laburraren jaialdirako deialdia. Bi aldiz pentsatu gabe helburutzat hartu eta hainbat gosari eta kafe hartze aprobetxatu genituen kulturaren inguruan bizitakoak eta hausnarketa ezberdinak proiektu batean aurkeztu eta deialdian izena emateko. Testu zehatzik gabe\, ideia nagusiak eta inspirazio iturri ezberdinak erakutsiz eta lan metodologia aipatuz. \nBertan aurkeztu ziren proiektuetatik aukeratuak izan ginen\, eta beraz\, buruan bueltaka genituenak taularatu behar genituen\, bai ala bai\, eta dena 20 minutu eskasean. Orduan jo genuen kanpo begiradan laguntzeko konplizearengana. Gure inprobisazio eta ideiak ordenatzen lagunduko zigun pertsonarengana\, zerk funtzionatzen zuen eta zerk ez ikusten eta zehazten lagunduko zigunarengana. Gure jolasetik ateratako testuak txukun txukun jasoko zituenarengana. \nAmancay Gaztañaga eta hirukoa osatuta\, errez joan da sormenaren bidaia\, gozagarri eta umorez. \nPlazerrez eta jolasez blai\, antzeztera irteten garenean bezalaxe. \nKriseilu saria jaso zuen 2018an\, euskarazko lan onenari.
URL:https://kamikazkolektiboa.com/event/agur-eta-dolore/
LOCATION:Gasteiz\, Spain
END:VEVENT
BEGIN:VEVENT
DTSTART;TZID=Europe/Madrid:20190322T193000
DTEND;TZID=Europe/Madrid:20190322T193000
DTSTAMP:20260421T054143
CREATED:20181231T132028Z
LAST-MODIFIED:20190130T123545Z
UID:531-1553283000-1553283000@kamikazkolektiboa.com
SUMMARY:Käffka
DESCRIPTION:Gehitu elkartea\, Kamikaz Kolektiboarekin harremanetan jarri zen\, aniztasun sexu-afektiboaren sensibilizazioa eta ikusgarritasuna jorratzeko antzezlan bat sortzeko helburuarekin. Proiektua martxan zegoen bitartean\, Ortzadar LGBT elkartea gehitu zitzaigun. Hiru eragileen elkarlanetik sortu da KÄAFKA antzezlana. \nProiektu hau\, bereziki nerabeei zuzendua dago\, eta helburu didaktikoa du.
URL:https://kamikazkolektiboa.com/event/kaffka-zumaia/
LOCATION:Zumaia\, España
END:VEVENT
BEGIN:VEVENT
DTSTART;TZID=Europe/Madrid:20190312T120000
DTEND;TZID=Europe/Madrid:20190312T120000
DTSTAMP:20260421T054143
CREATED:20181231T133117Z
LAST-MODIFIED:20190130T123651Z
UID:542-1552392000-1552392000@kamikazkolektiboa.com
SUMMARY:Agur eta Dolore
DESCRIPTION:Ikuskizun baten ondorenean jarri zen Agur eta doloreren hazia. Miren Gaztañaga eta Iraia Eliasek bertan egin genuen topo ikusle bezala eta ikuskizun horretan ikusitako hainbat ezaugarrirekin zerbait egiteko gogoa sartu zitzaigun\, umoretik\, jolasetik. Aitzakia bat behar ordea elkarrekin zerbait sortzeko\, eta orduan agertu zen Pabelloi 6ko antzerki laburraren jaialdirako deialdia. Bi aldiz pentsatu gabe helburutzat hartu eta hainbat gosari eta kafe hartze aprobetxatu genituen kulturaren inguruan bizitakoak eta hausnarketa ezberdinak proiektu batean aurkeztu eta deialdian izena emateko. Testu zehatzik gabe\, ideia nagusiak eta inspirazio iturri ezberdinak erakutsiz eta lan metodologia aipatuz. \nBertan aurkeztu ziren proiektuetatik aukeratuak izan ginen\, eta beraz\, buruan bueltaka genituenak taularatu behar genituen\, bai ala bai\, eta dena 20 minutu eskasean. Orduan jo genuen kanpo begiradan laguntzeko konplizearengana. Gure inprobisazio eta ideiak ordenatzen lagunduko zigun pertsonarengana\, zerk funtzionatzen zuen eta zerk ez ikusten eta zehazten lagunduko zigunarengana. Gure jolasetik ateratako testuak txukun txukun jasoko zituenarengana. \nAmancay Gaztañaga eta hirukoa osatuta\, errez joan da sormenaren bidaia\, gozagarri eta umorez. \nPlazerrez eta jolasez blai\, antzeztera irteten garenean bezalaxe. \nKriseilu saria jaso zuen 2018an\, euskarazko lan onenari.
URL:https://kamikazkolektiboa.com/event/agur-eta-dolore-irale/
LOCATION:Irale\, España
END:VEVENT
BEGIN:VEVENT
DTSTART;TZID=Europe/Madrid:20190310T183000
DTEND;TZID=Europe/Madrid:20190310T183000
DTSTAMP:20260421T054143
CREATED:20181231T132538Z
LAST-MODIFIED:20190130T123509Z
UID:537-1552242600-1552242600@kamikazkolektiboa.com
SUMMARY:Agur eta Dolore
DESCRIPTION:Ikuskizun baten ondorenean jarri zen Agur eta doloreren hazia. Miren Gaztañaga eta Iraia Eliasek bertan egin genuen topo ikusle bezala eta ikuskizun horretan ikusitako hainbat ezaugarrirekin zerbait egiteko gogoa sartu zitzaigun\, umoretik\, jolasetik. Aitzakia bat behar ordea elkarrekin zerbait sortzeko\, eta orduan agertu zen Pabelloi 6ko antzerki laburraren jaialdirako deialdia. Bi aldiz pentsatu gabe helburutzat hartu eta hainbat gosari eta kafe hartze aprobetxatu genituen kulturaren inguruan bizitakoak eta hausnarketa ezberdinak proiektu batean aurkeztu eta deialdian izena emateko. Testu zehatzik gabe\, ideia nagusiak eta inspirazio iturri ezberdinak erakutsiz eta lan metodologia aipatuz. \nBertan aurkeztu ziren proiektuetatik aukeratuak izan ginen\, eta beraz\, buruan bueltaka genituenak taularatu behar genituen\, bai ala bai\, eta dena 20 minutu eskasean. Orduan jo genuen kanpo begiradan laguntzeko konplizearengana. Gure inprobisazio eta ideiak ordenatzen lagunduko zigun pertsonarengana\, zerk funtzionatzen zuen eta zerk ez ikusten eta zehazten lagunduko zigunarengana. Gure jolasetik ateratako testuak txukun txukun jasoko zituenarengana. \nAmancay Gaztañaga eta hirukoa osatuta\, errez joan da sormenaren bidaia\, gozagarri eta umorez. \nPlazerrez eta jolasez blai\, antzeztera irteten garenean bezalaxe. \nKriseilu saria jaso zuen 2018an\, euskarazko lan onenari.
URL:https://kamikazkolektiboa.com/event/agur-eta-dolore-oiartzun/
LOCATION:Oiartzun\, España
END:VEVENT
BEGIN:VEVENT
DTSTART;TZID=Europe/Madrid:20190228T190000
DTEND;TZID=Europe/Madrid:20190228T190000
DTSTAMP:20260421T054143
CREATED:20181231T132401Z
LAST-MODIFIED:20190130T123449Z
UID:534-1551380400-1551380400@kamikazkolektiboa.com
SUMMARY:Agur eta Dolore
DESCRIPTION:Ikuskizun baten ondorenean jarri zen Agur eta doloreren hazia. Miren Gaztañaga eta Iraia Eliasek bertan egin genuen topo ikusle bezala eta ikuskizun horretan ikusitako hainbat ezaugarrirekin zerbait egiteko gogoa sartu zitzaigun\, umoretik\, jolasetik. Aitzakia bat behar ordea elkarrekin zerbait sortzeko\, eta orduan agertu zen Pabelloi 6ko antzerki laburraren jaialdirako deialdia. Bi aldiz pentsatu gabe helburutzat hartu eta hainbat gosari eta kafe hartze aprobetxatu genituen kulturaren inguruan bizitakoak eta hausnarketa ezberdinak proiektu batean aurkeztu eta deialdian izena emateko. Testu zehatzik gabe\, ideia nagusiak eta inspirazio iturri ezberdinak erakutsiz eta lan metodologia aipatuz. \nBertan aurkeztu ziren proiektuetatik aukeratuak izan ginen\, eta beraz\, buruan bueltaka genituenak taularatu behar genituen\, bai ala bai\, eta dena 20 minutu eskasean. Orduan jo genuen kanpo begiradan laguntzeko konplizearengana. Gure inprobisazio eta ideiak ordenatzen lagunduko zigun pertsonarengana\, zerk funtzionatzen zuen eta zerk ez ikusten eta zehazten lagunduko zigunarengana. Gure jolasetik ateratako testuak txukun txukun jasoko zituenarengana. \nAmancay Gaztañaga eta hirukoa osatuta\, errez joan da sormenaren bidaia\, gozagarri eta umorez. \nPlazerrez eta jolasez blai\, antzeztera irteten garenean bezalaxe. \nKriseilu saria jaso zuen 2018an\, euskarazko lan onenari.
URL:https://kamikazkolektiboa.com/event/agur-eta-dolore-arrasate/
LOCATION:Arrasate\, España
END:VEVENT
BEGIN:VEVENT
DTSTART;TZID=Europe/Madrid:20190215T193000
DTEND;TZID=Europe/Madrid:20190215T193000
DTSTAMP:20260421T054143
CREATED:20181231T131930Z
LAST-MODIFIED:20190131T104211Z
UID:528-1550259000-1550259000@kamikazkolektiboa.com
SUMMARY:Käffka
DESCRIPTION:Gehitu elkartea\, Kamikaz Kolektiboarekin harremanetan jarri zen\, aniztasun sexu-afektiboaren sensibilizazioa eta ikusgarritasuna jorratzeko antzezlan bat sortzeko helburuarekin. Proiektua martxan zegoen bitartean\, Ortzadar LGBT elkartea gehitu zitzaigun. Hiru eragileen elkarlanetik sortu da KÄAFKA antzezlana. \nProiektu hau\, bereziki nerabeei zuzendua dago\, eta helburu didaktikoa du.
URL:https://kamikazkolektiboa.com/event/kaffka-azpeitia/
LOCATION:Azpeitia\, Azpeitia\, Gipuzkoa
END:VEVENT
BEGIN:VEVENT
DTSTART;TZID=Europe/Madrid:20190127T190000
DTEND;TZID=Europe/Madrid:20190127T210000
DTSTAMP:20260421T054143
CREATED:20181129T115907Z
LAST-MODIFIED:20190114T100630Z
UID:422-1548615600-1548622800@kamikazkolektiboa.com
SUMMARY:Käffkaren estreinaldia
DESCRIPTION:Gehitu elkartea\, Kamikaz Kolektiboarekin harremanetan jarri zen\, aniztasun sexu-afektiboaren sensibilizazioa eta ikusgarritasuna jorratzeko antzezlan bat sortzeko helburuarekin. Proiektua martxan zegoen bitartean\, Ortzadar LGBT elkartea gehitu zitzaigun. Hiru eragileen elkarlanetik sortu da KÄAFKA antzezlana. \nProiektu hau\, bereziki nerabeei zuzendua dago\, eta helburu didaktikoa du.
URL:https://kamikazkolektiboa.com/event/kaffka/
LOCATION:PABELLON 6\, C/ Ribera de Deusto 47\, Bilbo\, Bizkaia\, 48014
END:VEVENT
END:VCALENDAR