BEGIN:VCALENDAR
VERSION:2.0
PRODID:-//Kamikaz Kolektiboa - ECPv6.15.20//NONSGML v1.0//EN
CALSCALE:GREGORIAN
METHOD:PUBLISH
X-WR-CALNAME:Kamikaz Kolektiboa
X-ORIGINAL-URL:https://kamikazkolektiboa.com
X-WR-CALDESC:Events for Kamikaz Kolektiboa
REFRESH-INTERVAL;VALUE=DURATION:PT1H
X-Robots-Tag:noindex
X-PUBLISHED-TTL:PT1H
BEGIN:VTIMEZONE
TZID:Europe/Madrid
BEGIN:DAYLIGHT
TZOFFSETFROM:+0100
TZOFFSETTO:+0200
TZNAME:CEST
DTSTART:20210328T010000
END:DAYLIGHT
BEGIN:STANDARD
TZOFFSETFROM:+0200
TZOFFSETTO:+0100
TZNAME:CET
DTSTART:20211031T010000
END:STANDARD
BEGIN:DAYLIGHT
TZOFFSETFROM:+0100
TZOFFSETTO:+0200
TZNAME:CEST
DTSTART:20220327T010000
END:DAYLIGHT
BEGIN:STANDARD
TZOFFSETFROM:+0200
TZOFFSETTO:+0100
TZNAME:CET
DTSTART:20221030T010000
END:STANDARD
BEGIN:DAYLIGHT
TZOFFSETFROM:+0100
TZOFFSETTO:+0200
TZNAME:CEST
DTSTART:20230326T010000
END:DAYLIGHT
BEGIN:STANDARD
TZOFFSETFROM:+0200
TZOFFSETTO:+0100
TZNAME:CET
DTSTART:20231029T010000
END:STANDARD
BEGIN:DAYLIGHT
TZOFFSETFROM:+0100
TZOFFSETTO:+0200
TZNAME:CEST
DTSTART:20240331T010000
END:DAYLIGHT
BEGIN:STANDARD
TZOFFSETFROM:+0200
TZOFFSETTO:+0100
TZNAME:CET
DTSTART:20241027T010000
END:STANDARD
END:VTIMEZONE
BEGIN:VEVENT
DTSTART;TZID=Europe/Madrid:20230930T190000
DTEND;TZID=Europe/Madrid:20230930T203000
DTSTAMP:20260420T080252
CREATED:20230620T104123Z
LAST-MODIFIED:20230620T104123Z
UID:1044-1696100400-1696105800@kamikazkolektiboa.com
SUMMARY:Troia / Urnieta
DESCRIPTION:
URL:https://kamikazkolektiboa.com/event/troia-urnieta/
LOCATION:Urnieta
END:VEVENT
BEGIN:VEVENT
DTSTART;TZID=Europe/Madrid:20230924T123000
DTEND;TZID=Europe/Madrid:20230924T133000
DTSTAMP:20260420T080252
CREATED:20230918T090350Z
LAST-MODIFIED:20230918T090555Z
UID:1052-1695558600-1695562200@kamikazkolektiboa.com
SUMMARY:Troia / Zumaia
DESCRIPTION:
URL:https://kamikazkolektiboa.com/event/troia-zumaia-2/
LOCATION:Zumaia\, España
END:VEVENT
BEGIN:VEVENT
DTSTART;TZID=Europe/Madrid:20230915T190000
DTEND;TZID=Europe/Madrid:20230915T203000
DTSTAMP:20260420T080252
CREATED:20230620T104020Z
LAST-MODIFIED:20230620T104020Z
UID:1042-1694804400-1694809800@kamikazkolektiboa.com
SUMMARY:Troia / Galdakao
DESCRIPTION:
URL:https://kamikazkolektiboa.com/event/troia-galdakao/
LOCATION:Galdakao
END:VEVENT
BEGIN:VEVENT
DTSTART;TZID=Europe/Madrid:20230903T190000
DTEND;TZID=Europe/Madrid:20230903T203000
DTSTAMP:20260420T080252
CREATED:20230620T103913Z
LAST-MODIFIED:20230620T103913Z
UID:1040-1693767600-1693773000@kamikazkolektiboa.com
SUMMARY:Troia / Zumaia
DESCRIPTION:
URL:https://kamikazkolektiboa.com/event/troia-zumaia/
LOCATION:Zumaia\, España
END:VEVENT
BEGIN:VEVENT
DTSTART;TZID=Europe/Madrid:20230805T190000
DTEND;TZID=Europe/Madrid:20230805T203000
DTSTAMP:20260420T080252
CREATED:20230620T103742Z
LAST-MODIFIED:20230620T103742Z
UID:1037-1691262000-1691267400@kamikazkolektiboa.com
SUMMARY:Troia / Durango
DESCRIPTION:
URL:https://kamikazkolektiboa.com/event/troia-durango/
LOCATION:Durango
END:VEVENT
BEGIN:VEVENT
DTSTART;TZID=Europe/Madrid:20230716T200000
DTEND;TZID=Europe/Madrid:20230716T213000
DTSTAMP:20260420T080252
CREATED:20230620T103637Z
LAST-MODIFIED:20230620T103637Z
UID:1035-1689537600-1689543000@kamikazkolektiboa.com
SUMMARY:Troia / Irun
DESCRIPTION:
URL:https://kamikazkolektiboa.com/event/troia-irun/
LOCATION:Irun
END:VEVENT
BEGIN:VEVENT
DTSTART;TZID=Europe/Madrid:20230707T190000
DTEND;TZID=Europe/Madrid:20230707T203000
DTSTAMP:20260420T080252
CREATED:20230620T103439Z
LAST-MODIFIED:20230620T103439Z
UID:1033-1688756400-1688761800@kamikazkolektiboa.com
SUMMARY:Troia / Zarautz
DESCRIPTION:
URL:https://kamikazkolektiboa.com/event/troia-zarautz/
LOCATION:Zarautz
END:VEVENT
BEGIN:VEVENT
DTSTART;TZID=Europe/Madrid:20230629T110000
DTEND;TZID=Europe/Madrid:20230629T123000
DTSTAMP:20260420T080252
CREATED:20230607T084740Z
LAST-MODIFIED:20230607T084740Z
UID:1027-1688036400-1688041800@kamikazkolektiboa.com
SUMMARY:Hiru kortse\, azukre asko eta brandy gehiegi / Zarautz (eskolarra)
DESCRIPTION:Emakume 1\, emakume 2\, emakume 3\, kanpai hotsekin batera\, puntual elkartzen dira merienda mahai baten inguruan. Tisana\, pasta\, azukre eta pastelitoz betetzen dituzte gorputzak\, beraien egunerokotasunaz hitz egiten duten bitartean. \nBa ote dakite\, beraien bizitza beste norbaitek kontatua izan dela? Zein begiradatik izan dira sortuak emakume hauek? Nork idatzi du tinta lodiz historia? Historia kontatu diguten bezalakoa da? \nNork mugitzen ditu emakume hauen kortseen hariak?
URL:https://kamikazkolektiboa.com/event/hiru-kortse-azukre-asko-eta-brandy-gehiegi-zarautz-eskolarra-2/
LOCATION:Zarautz
END:VEVENT
BEGIN:VEVENT
DTSTART;TZID=Europe/Madrid:20230518T193000
DTEND;TZID=Europe/Madrid:20230518T210000
DTSTAMP:20260420T080252
CREATED:20230202T114121Z
LAST-MODIFIED:20230202T114144Z
UID:1022-1684438200-1684443600@kamikazkolektiboa.com
SUMMARY:Hiru kortse\, azukre asko eta brandy gehiegi / Hernani
DESCRIPTION:Emakume 1\, emakume 2\, emakume 3\, kanpai hotsekin batera\, puntual elkartzen dira merienda mahai baten inguruan. Tisana\, pasta\, azukre eta pastelitoz betetzen dituzte gorputzak\, beraien egunerokotasunaz hitz egiten duten bitartean. \nBa ote dakite\, beraien bizitza beste norbaitek kontatua izan dela? Zein begiradatik izan dira sortuak emakume hauek? Nork idatzi du tinta lodiz historia? Historia kontatu diguten bezalakoa da? \nNork mugitzen ditu emakume hauen kortseen hariak?
URL:https://kamikazkolektiboa.com/event/hiru-kortse-azukre-asko-eta-brandy-gehiegi-hernani/
LOCATION:Hernani
END:VEVENT
BEGIN:VEVENT
DTSTART;VALUE=DATE:20230507
DTEND;VALUE=DATE:20230508
DTSTAMP:20260420T080252
CREATED:20230202T114036Z
LAST-MODIFIED:20230202T114036Z
UID:1019-1683417600-1683503999@kamikazkolektiboa.com
SUMMARY:Hiru kortse\, azukre asko eta brandy gehiegi / Auritz
DESCRIPTION:Emakume 1\, emakume 2\, emakume 3\, kanpai hotsekin batera\, puntual elkartzen dira merienda mahai baten inguruan. Tisana\, pasta\, azukre eta pastelitoz betetzen dituzte gorputzak\, beraien egunerokotasunaz hitz egiten duten bitartean. \nBa ote dakite\, beraien bizitza beste norbaitek kontatua izan dela? Zein begiradatik izan dira sortuak emakume hauek? Nork idatzi du tinta lodiz historia? Historia kontatu diguten bezalakoa da? \nNork mugitzen ditu emakume hauen kortseen hariak?
URL:https://kamikazkolektiboa.com/event/hiru-kortse-azukre-asko-eta-brandy-gehiegi-auritz/
LOCATION:Auritz
END:VEVENT
BEGIN:VEVENT
DTSTART;VALUE=DATE:20230327
DTEND;VALUE=DATE:20230328
DTSTAMP:20260420T080252
CREATED:20230202T113909Z
LAST-MODIFIED:20230202T113909Z
UID:1017-1679875200-1679961599@kamikazkolektiboa.com
SUMMARY:Hiru kortse\, azukre asko eta brandy gehiegi / Donostia
DESCRIPTION:Emakume 1\, emakume 2\, emakume 3\, kanpai hotsekin batera\, puntual elkartzen dira merienda mahai baten inguruan. Tisana\, pasta\, azukre eta pastelitoz betetzen dituzte gorputzak\, beraien egunerokotasunaz hitz egiten duten bitartean. \nBa ote dakite\, beraien bizitza beste norbaitek kontatua izan dela? Zein begiradatik izan dira sortuak emakume hauek? Nork idatzi du tinta lodiz historia? Historia kontatu diguten bezalakoa da? \nNork mugitzen ditu emakume hauen kortseen hariak?
URL:https://kamikazkolektiboa.com/event/hiru-kortse-azukre-asko-eta-brandy-gehiegi-donostia-2/
LOCATION:Donostia\, Gipuzkoa
END:VEVENT
BEGIN:VEVENT
DTSTART;VALUE=DATE:20230326
DTEND;VALUE=DATE:20230327
DTSTAMP:20260420T080252
CREATED:20230202T113815Z
LAST-MODIFIED:20230202T113815Z
UID:1015-1679788800-1679875199@kamikazkolektiboa.com
SUMMARY:Hiru kortse\, azukre asko eta brandy gehiegi / Lesaka
DESCRIPTION:Emakume 1\, emakume 2\, emakume 3\, kanpai hotsekin batera\, puntual elkartzen dira merienda mahai baten inguruan. Tisana\, pasta\, azukre eta pastelitoz betetzen dituzte gorputzak\, beraien egunerokotasunaz hitz egiten duten bitartean. \nBa ote dakite\, beraien bizitza beste norbaitek kontatua izan dela? Zein begiradatik izan dira sortuak emakume hauek? Nork idatzi du tinta lodiz historia? Historia kontatu diguten bezalakoa da? \nNork mugitzen ditu emakume hauen kortseen hariak?
URL:https://kamikazkolektiboa.com/event/hiru-kortse-azukre-asko-eta-brandy-gehiegi-lesaka/
LOCATION:Lesaka
END:VEVENT
BEGIN:VEVENT
DTSTART;VALUE=DATE:20230305
DTEND;VALUE=DATE:20230306
DTSTAMP:20260420T080252
CREATED:20230202T113720Z
LAST-MODIFIED:20230202T113720Z
UID:1012-1677974400-1678060799@kamikazkolektiboa.com
SUMMARY:Hiru kortse\, azukre asko eta brandy gehiegi / Irurita
DESCRIPTION:Emakume 1\, emakume 2\, emakume 3\, kanpai hotsekin batera\, puntual elkartzen dira merienda mahai baten inguruan. Tisana\, pasta\, azukre eta pastelitoz betetzen dituzte gorputzak\, beraien egunerokotasunaz hitz egiten duten bitartean. \nBa ote dakite\, beraien bizitza beste norbaitek kontatua izan dela? Zein begiradatik izan dira sortuak emakume hauek? Nork idatzi du tinta lodiz historia? Historia kontatu diguten bezalakoa da? \nNork mugitzen ditu emakume hauen kortseen hariak?
URL:https://kamikazkolektiboa.com/event/hiru-kortse-azukre-asko-eta-brandy-gehiegi-irurita/
LOCATION:Irurita
END:VEVENT
BEGIN:VEVENT
DTSTART;TZID=Europe/Madrid:20230228T130000
DTEND;TZID=Europe/Madrid:20230228T143000
DTSTAMP:20260420T080252
CREATED:20230202T113623Z
LAST-MODIFIED:20230202T113623Z
UID:1010-1677589200-1677594600@kamikazkolektiboa.com
SUMMARY:Hiru kortse\, azukre asko eta brandy gehiegi / Hernani (eskolarra)
DESCRIPTION:Emakume 1\, emakume 2\, emakume 3\, kanpai hotsekin batera\, puntual elkartzen dira merienda mahai baten inguruan. Tisana\, pasta\, azukre eta pastelitoz betetzen dituzte gorputzak\, beraien egunerokotasunaz hitz egiten duten bitartean. \nBa ote dakite\, beraien bizitza beste norbaitek kontatua izan dela? Zein begiradatik izan dira sortuak emakume hauek? Nork idatzi du tinta lodiz historia? Historia kontatu diguten bezalakoa da? \nNork mugitzen ditu emakume hauen kortseen hariak?
URL:https://kamikazkolektiboa.com/event/hiru-kortse-azukre-asko-eta-brandy-gehiegi-hernani-eskolarra/
LOCATION:Hernani
END:VEVENT
BEGIN:VEVENT
DTSTART;TZID=Europe/Madrid:20230225T193000
DTEND;TZID=Europe/Madrid:20230225T210000
DTSTAMP:20260420T080252
CREATED:20230202T113443Z
LAST-MODIFIED:20230202T113506Z
UID:1007-1677353400-1677358800@kamikazkolektiboa.com
SUMMARY:Hiru kortse\, azukre asko eta brandy gehiegi / Berriz
DESCRIPTION:Emakume 1\, emakume 2\, emakume 3\, kanpai hotsekin batera\, puntual elkartzen dira merienda mahai baten inguruan. Tisana\, pasta\, azukre eta pastelitoz betetzen dituzte gorputzak\, beraien egunerokotasunaz hitz egiten duten bitartean. \nBa ote dakite\, beraien bizitza beste norbaitek kontatua izan dela? Zein begiradatik izan dira sortuak emakume hauek? Nork idatzi du tinta lodiz historia? Historia kontatu diguten bezalakoa da? \nNork mugitzen ditu emakume hauen kortseen hariak?
URL:https://kamikazkolektiboa.com/event/hiru-kortse-azukre-asko-eta-brandy-gehiegi-berriz/
LOCATION:Berriz
END:VEVENT
BEGIN:VEVENT
DTSTART;TZID=Europe/Madrid:20230216T123000
DTEND;TZID=Europe/Madrid:20230216T140000
DTSTAMP:20260420T080252
CREATED:20230202T113141Z
LAST-MODIFIED:20230202T113329Z
UID:1005-1676550600-1676556000@kamikazkolektiboa.com
SUMMARY:Hiru kortse\, azukre asko eta brandy gehiegi / Zarautz (eskolarra)
DESCRIPTION:Emakume 1\, emakume 2\, emakume 3\, kanpai hotsekin batera\, puntual elkartzen dira merienda mahai baten inguruan. Tisana\, pasta\, azukre eta pastelitoz betetzen dituzte gorputzak\, beraien egunerokotasunaz hitz egiten duten bitartean. \nBa ote dakite\, beraien bizitza beste norbaitek kontatua izan dela? Zein begiradatik izan dira sortuak emakume hauek? Nork idatzi du tinta lodiz historia? Historia kontatu diguten bezalakoa da? \nNork mugitzen ditu emakume hauen kortseen hariak?
URL:https://kamikazkolektiboa.com/event/hiru-kortse-azukre-asko-eta-brandy-gehiegi-zarautz-eskolarra/
LOCATION:Zarautz
END:VEVENT
BEGIN:VEVENT
DTSTART;VALUE=DATE:20221223
DTEND;VALUE=DATE:20221224
DTSTAMP:20260420T080252
CREATED:20221017T145911Z
LAST-MODIFIED:20221017T145911Z
UID:997-1671753600-1671839999@kamikazkolektiboa.com
SUMMARY:Hiru kortse\, azukre asko eta brandy gehiegi / Anoeta
DESCRIPTION:Emakume 1\, emakume 2\, emakume 3\, kanpai hotsekin batera\, puntual elkartzen dira merienda mahai baten inguruan. Tisana\, pasta\, azukre eta pastelitoz betetzen dituzte gorputzak\, beraien egunerokotasunaz hitz egiten duten bitartean. \nBa ote dakite\, beraien bizitza beste norbaitek kontatua izan dela? Zein begiradatik izan dira sortuak emakume hauek? Nork idatzi du tinta lodiz historia? Historia kontatu diguten bezalakoa da? \nNork mugitzen ditu emakume hauen kortseen hariak?
URL:https://kamikazkolektiboa.com/event/hiru-kortse-azukre-asko-eta-brandy-gehiegi-anoeta/
LOCATION:Anoeta
END:VEVENT
BEGIN:VEVENT
DTSTART;VALUE=DATE:20221201
DTEND;VALUE=DATE:20221202
DTSTAMP:20260420T080252
CREATED:20220825T094632Z
LAST-MODIFIED:20220825T094632Z
UID:990-1669852800-1669939199@kamikazkolektiboa.com
SUMMARY:Hiru kortse\, azukre asko eta brandy gehiegi / Irun
DESCRIPTION:Emakume 1\, emakume 2\, emakume 3\, kanpai hotsekin batera\, puntual elkartzen dira merienda mahai baten inguruan. Tisana\, pasta\, azukre eta pastelitoz betetzen dituzte gorputzak\, beraien egunerokotasunaz hitz egiten duten bitartean. \nBa ote dakite\, beraien bizitza beste norbaitek kontatua izan dela? Zein begiradatik izan dira sortuak emakume hauek? Nork idatzi du tinta lodiz historia? Historia kontatu diguten bezalakoa da? \nNork mugitzen ditu emakume hauen kortseen hariak?
URL:https://kamikazkolektiboa.com/event/hiru-kortse-azukre-asko-eta-brandy-gehiegi-irun/
LOCATION:Irun
END:VEVENT
BEGIN:VEVENT
DTSTART;VALUE=DATE:20221125
DTEND;VALUE=DATE:20221126
DTSTAMP:20260420T080252
CREATED:20221116T170306Z
LAST-MODIFIED:20221116T170306Z
UID:1001-1669334400-1669420799@kamikazkolektiboa.com
SUMMARY:Hiru kortse\, azukre asko eta brandy gehiegi / Mutriku
DESCRIPTION:Emakume 1\, emakume 2\, emakume 3\, kanpai hotsekin batera\, puntual elkartzen dira merienda mahai baten inguruan. Tisana\, pasta\, azukre eta pastelitoz betetzen dituzte gorputzak\, beraien egunerokotasunaz hitz egiten duten bitartean. \nBa ote dakite\, beraien bizitza beste norbaitek kontatua izan dela? Zein begiradatik izan dira sortuak emakume hauek? Nork idatzi du tinta lodiz historia? Historia kontatu diguten bezalakoa da? \nNork mugitzen ditu emakume hauen kortseen hariak?
URL:https://kamikazkolektiboa.com/event/hiru-kortse-azukre-asko-eta-brandy-gehiegi-mutriku/
LOCATION:Mutriku
END:VEVENT
BEGIN:VEVENT
DTSTART;VALUE=DATE:20221124
DTEND;VALUE=DATE:20221125
DTSTAMP:20260420T080252
CREATED:20220825T094514Z
LAST-MODIFIED:20220825T094514Z
UID:987-1669248000-1669334399@kamikazkolektiboa.com
SUMMARY:Hiru kortse\, azukre asko eta brandy gehiegi / Azpeitia
DESCRIPTION:Emakume 1\, emakume 2\, emakume 3\, kanpai hotsekin batera\, puntual elkartzen dira merienda mahai baten inguruan. Tisana\, pasta\, azukre eta pastelitoz betetzen dituzte gorputzak\, beraien egunerokotasunaz hitz egiten duten bitartean. \nBa ote dakite\, beraien bizitza beste norbaitek kontatua izan dela? Zein begiradatik izan dira sortuak emakume hauek? Nork idatzi du tinta lodiz historia? Historia kontatu diguten bezalakoa da? \nNork mugitzen ditu emakume hauen kortseen hariak?
URL:https://kamikazkolektiboa.com/event/hiru-kortse-azukre-asko-eta-brandy-gehiegi-azpeitia-2/
LOCATION:Azpeitia\, Azpeitia\, Gipuzkoa
END:VEVENT
BEGIN:VEVENT
DTSTART;VALUE=DATE:20221112
DTEND;VALUE=DATE:20221113
DTSTAMP:20260420T080252
CREATED:20220825T094340Z
LAST-MODIFIED:20220825T094340Z
UID:984-1668211200-1668297599@kamikazkolektiboa.com
SUMMARY:Hiru kortse\, azukre asko eta brandy gehiegi / Mendaro
DESCRIPTION:Emakume 1\, emakume 2\, emakume 3\, kanpai hotsekin batera\, puntual elkartzen dira merienda mahai baten inguruan. Tisana\, pasta\, azukre eta pastelitoz betetzen dituzte gorputzak\, beraien egunerokotasunaz hitz egiten duten bitartean. \nBa ote dakite\, beraien bizitza beste norbaitek kontatua izan dela? Zein begiradatik izan dira sortuak emakume hauek? Nork idatzi du tinta lodiz historia? Historia kontatu diguten bezalakoa da? \nNork mugitzen ditu emakume hauen kortseen hariak?
URL:https://kamikazkolektiboa.com/event/hiru-kortse-azukre-asko-eta-brandy-gehiegi-mendaro/
LOCATION:Mendaro
END:VEVENT
BEGIN:VEVENT
DTSTART;VALUE=DATE:20221111
DTEND;VALUE=DATE:20221112
DTSTAMP:20260420T080252
CREATED:20211229T095848Z
LAST-MODIFIED:20211229T095848Z
UID:940-1668124800-1668211199@kamikazkolektiboa.com
SUMMARY:Hiru kortse\, azukre asko eta brandy gehiegi / Elgoibar
DESCRIPTION:Emakume 1\, emakume 2\, emakume 3\, kanpai hotsekin batera\, puntual elkartzen dira merienda mahai baten inguruan. Tisana\, pasta\, azukre eta pastelitoz betetzen dituzte gorputzak\, beraien egunerokotasunaz hitz egiten duten bitartean. \nBa ote dakite\, beraien bizitza beste norbaitek kontatua izan dela? Zein begiradatik izan dira sortuak emakume hauek? Nork idatzi du tinta lodiz historia? Historia kontatu diguten bezalakoa da? \nNork mugitzen ditu emakume hauen kortseen hariak?
URL:https://kamikazkolektiboa.com/event/hiru-kortse-azukre-asko-eta-brandy-gehiegi-elgoibar/
LOCATION:Elgoibar
END:VEVENT
BEGIN:VEVENT
DTSTART;VALUE=DATE:20221106
DTEND;VALUE=DATE:20221107
DTSTAMP:20260420T080252
CREATED:20220825T094242Z
LAST-MODIFIED:20220825T094242Z
UID:982-1667692800-1667779199@kamikazkolektiboa.com
SUMMARY:Hiru kortse\, azukre asko eta brandy gehiegi / Orereta
DESCRIPTION:Emakume 1\, emakume 2\, emakume 3\, kanpai hotsekin batera\, puntual elkartzen dira merienda mahai baten inguruan. Tisana\, pasta\, azukre eta pastelitoz betetzen dituzte gorputzak\, beraien egunerokotasunaz hitz egiten duten bitartean. \nBa ote dakite\, beraien bizitza beste norbaitek kontatua izan dela? Zein begiradatik izan dira sortuak emakume hauek? Nork idatzi du tinta lodiz historia? Historia kontatu diguten bezalakoa da? \nNork mugitzen ditu emakume hauen kortseen hariak?
URL:https://kamikazkolektiboa.com/event/hiru-kortse-azukre-asko-eta-brandy-gehiegi-orereta/
LOCATION:Orereta
END:VEVENT
BEGIN:VEVENT
DTSTART;VALUE=DATE:20221023
DTEND;VALUE=DATE:20221024
DTSTAMP:20260420T080252
CREATED:20221017T145810Z
LAST-MODIFIED:20221017T145810Z
UID:994-1666483200-1666569599@kamikazkolektiboa.com
SUMMARY:Hiru kortse\, azukre asko eta brandy gehiegi / Eskoriatza
DESCRIPTION:Emakume 1\, emakume 2\, emakume 3\, kanpai hotsekin batera\, puntual elkartzen dira merienda mahai baten inguruan. Tisana\, pasta\, azukre eta pastelitoz betetzen dituzte gorputzak\, beraien egunerokotasunaz hitz egiten duten bitartean. \nBa ote dakite\, beraien bizitza beste norbaitek kontatua izan dela? Zein begiradatik izan dira sortuak emakume hauek? Nork idatzi du tinta lodiz historia? Historia kontatu diguten bezalakoa da? \nNork mugitzen ditu emakume hauen kortseen hariak?
URL:https://kamikazkolektiboa.com/event/hiru-kortse-azukre-asko-eta-brandy-gehiegi-eskoriatza/
LOCATION:Eskoriatza
END:VEVENT
BEGIN:VEVENT
DTSTART;VALUE=DATE:20221016
DTEND;VALUE=DATE:20221017
DTSTAMP:20260420T080252
CREATED:20220825T094126Z
LAST-MODIFIED:20220825T094126Z
UID:980-1665878400-1665964799@kamikazkolektiboa.com
SUMMARY:Hiru kortse\, azukre asko eta brandy gehiegi / Pasaia
DESCRIPTION:Emakume 1\, emakume 2\, emakume 3\, kanpai hotsekin batera\, puntual elkartzen dira merienda mahai baten inguruan. Tisana\, pasta\, azukre eta pastelitoz betetzen dituzte gorputzak\, beraien egunerokotasunaz hitz egiten duten bitartean. \nBa ote dakite\, beraien bizitza beste norbaitek kontatua izan dela? Zein begiradatik izan dira sortuak emakume hauek? Nork idatzi du tinta lodiz historia? Historia kontatu diguten bezalakoa da? \nNork mugitzen ditu emakume hauen kortseen hariak?
URL:https://kamikazkolektiboa.com/event/hiru-kortse-azukre-asko-eta-brandy-gehiegi-pasaia/
LOCATION:Pasaia
END:VEVENT
BEGIN:VEVENT
DTSTART;VALUE=DATE:20221007
DTEND;VALUE=DATE:20221008
DTSTAMP:20260420T080252
CREATED:20220825T093843Z
LAST-MODIFIED:20220825T093843Z
UID:977-1665100800-1665187199@kamikazkolektiboa.com
SUMMARY:Hiru kortse\, azukre asko eta brandy gehiegi / Soraluze
DESCRIPTION:Emakume 1\, emakume 2\, emakume 3\, kanpai hotsekin batera\, puntual elkartzen dira merienda mahai baten inguruan. Tisana\, pasta\, azukre eta pastelitoz betetzen dituzte gorputzak\, beraien egunerokotasunaz hitz egiten duten bitartean. \nBa ote dakite\, beraien bizitza beste norbaitek kontatua izan dela? Zein begiradatik izan dira sortuak emakume hauek? Nork idatzi du tinta lodiz historia? Historia kontatu diguten bezalakoa da? \nNork mugitzen ditu emakume hauen kortseen hariak?
URL:https://kamikazkolektiboa.com/event/hiru-kortse-azukre-asko-eta-brandy-gehiegi-soraluze/
LOCATION:Soraluze
END:VEVENT
BEGIN:VEVENT
DTSTART;VALUE=DATE:20220925
DTEND;VALUE=DATE:20220926
DTSTAMP:20260420T080252
CREATED:20220825T093653Z
LAST-MODIFIED:20220825T093653Z
UID:975-1664064000-1664150399@kamikazkolektiboa.com
SUMMARY:Hiru kortse\, azukre asko eta brandy gehiegi / Donostia
DESCRIPTION:Emakume 1\, emakume 2\, emakume 3\, kanpai hotsekin batera\, puntual elkartzen dira merienda mahai baten inguruan. Tisana\, pasta\, azukre eta pastelitoz betetzen dituzte gorputzak\, beraien egunerokotasunaz hitz egiten duten bitartean. \nBa ote dakite\, beraien bizitza beste norbaitek kontatua izan dela? Zein begiradatik izan dira sortuak emakume hauek? Nork idatzi du tinta lodiz historia? Historia kontatu diguten bezalakoa da? \nNork mugitzen ditu emakume hauen kortseen hariak?
URL:https://kamikazkolektiboa.com/event/hiru-kortse-azukre-asko-eta-brandy-gehiegi-donostia/
LOCATION:Donostia\, Gipuzkoa
END:VEVENT
BEGIN:VEVENT
DTSTART;VALUE=DATE:20220716
DTEND;VALUE=DATE:20220717
DTSTAMP:20260420T080252
CREATED:20220329T103242Z
LAST-MODIFIED:20220329T103242Z
UID:970-1657929600-1658015999@kamikazkolektiboa.com
SUMMARY:Hiru kortse\, azukre asko eta brandy gehiegi / Auñamendi
DESCRIPTION:Emakume 1\, emakume 2\, emakume 3\, kanpai hotsekin batera\, puntual elkartzen dira merienda mahai baten inguruan. Tisana\, pasta\, azukre eta pastelitoz betetzen dituzte gorputzak\, beraien egunerokotasunaz hitz egiten duten bitartean. \nBa ote dakite\, beraien bizitza beste norbaitek kontatua izan dela? Zein begiradatik izan dira sortuak emakume hauek? Nork idatzi du tinta lodiz historia? Historia kontatu diguten bezalakoa da? \nNork mugitzen ditu emakume hauen kortseen hariak?
URL:https://kamikazkolektiboa.com/event/hiru-kortse-azukre-asko-eta-brandy-gehiegi-aunamendi/
LOCATION:Auñamendi
END:VEVENT
BEGIN:VEVENT
DTSTART;VALUE=DATE:20220629
DTEND;VALUE=DATE:20220630
DTSTAMP:20260420T080252
CREATED:20211018T173814Z
LAST-MODIFIED:20211111T121542Z
UID:890-1656460800-1656547199@kamikazkolektiboa.com
SUMMARY:Hiru kortse\, azukre asko eta brandy gehiegi / Zestoa
DESCRIPTION:Emakume 1\, emakume 2\, emakume 3\, kanpai hotsekin batera\, puntual elkartzen dira merienda mahai baten inguruan. Tisana\, pasta\, azukre eta pastelitoz betetzen dituzte gorputzak\, beraien egunerokotasunaz hitz egiten duten bitartean. \nBa ote dakite\, beraien bizitza beste norbaitek kontatua izan dela? Zein begiradatik izan dira sortuak emakume hauek? Nork idatzi du tinta lodiz historia? Historia kontatu diguten bezalakoa da? \nNork mugitzen ditu emakume hauen kortseen hariak?
URL:https://kamikazkolektiboa.com/event/hiru-kortse-azukre-asko-eta-brandy-gehiegi-zestoa/
LOCATION:Zestoa
END:VEVENT
BEGIN:VEVENT
DTSTART;VALUE=DATE:20220518
DTEND;VALUE=DATE:20220519
DTSTAMP:20260420T080252
CREATED:20220218T132847Z
LAST-MODIFIED:20220218T132847Z
UID:964-1652832000-1652918399@kamikazkolektiboa.com
SUMMARY:Hiru kortse\, azukre asko eta brandy gehiegi / Iruña
DESCRIPTION:Emakume 1\, emakume 2\, emakume 3\, kanpai hotsekin batera\, puntual elkartzen dira merienda mahai baten inguruan. Tisana\, pasta\, azukre eta pastelitoz betetzen dituzte gorputzak\, beraien egunerokotasunaz hitz egiten duten bitartean. \nBa ote dakite\, beraien bizitza beste norbaitek kontatua izan dela? Zein begiradatik izan dira sortuak emakume hauek? Nork idatzi du tinta lodiz historia? Historia kontatu diguten bezalakoa da? \nNork mugitzen ditu emakume hauen kortseen hariak?
URL:https://kamikazkolektiboa.com/event/hiru-kortse-azukre-asko-eta-brandy-gehiegi-iruna/
LOCATION:Iruña
END:VEVENT
END:VCALENDAR